BEGIN:VCALENDAR
VERSION:2.0
PRODID:-//www.childrensheartfoundation.org//NONSGML kigkonsult.se iCalcreat
 or 2.30.10//
CALSCALE:GREGORIAN
METHOD:PUBLISH
UID:f0f1a8f8-ebbc-4658-932f-a5cc50f2e4b5
X-WR-CALDESC:
X-WR-RELCALID:fb76dc87cc383960d0ba4aae32ab7de8
X-WR-TIMEZONE:America/Chicago
BEGIN:VTIMEZONE
TZID:America/Chicago
BEGIN:STANDARD
TZNAME:CST
DTSTART:20251102T020000
TZOFFSETFROM:-0500
TZOFFSETTO:-0600
RDATE:20261101T020000
RDATE:20271107T020000
END:STANDARD
BEGIN:DAYLIGHT
TZNAME:CDT
DTSTART:20260308T020000
TZOFFSETFROM:-0600
TZOFFSETTO:-0500
RDATE:20270314T020000
END:DAYLIGHT
END:VTIMEZONE
BEGIN:VEVENT
UID:da1d3ad2-98ca-48bc-bd10-efe892f99f6f
DTSTAMP:20260422T221320Z
DESCRIPTION:
DTSTART;TZID=America/Chicago:20260802T050000
DTEND;TZID=America/Chicago:20260802T050001
LOCATION:Millennium Park Grant Pavilion\, Walker\, MI
SUMMARY:West Michigan Congenital Heart Walk
END:VEVENT
END:VCALENDAR
