BEGIN:VCALENDAR
VERSION:2.0
PRODID:-//www.childrensheartfoundation.org//NONSGML kigkonsult.se iCalcreat
 or 2.30.10//
CALSCALE:GREGORIAN
METHOD:PUBLISH
UID:e6f7de3c-385c-4d87-9334-dd5060dc4779
X-WR-CALDESC:Join us for a meaningful one-mile walk where heart families\, 
 supporters\, and survivors unite for change. This family-friendly event br
 ings our community together\, honoring Heart Warriors we've lost and celeb
 rating those still fighting. We walk side by side - heart families\, berea
 ved families\, and supporters - showing that no one faces CHDs alone.
X-WR-RELCALID:266553b62290f924fb02c24e9078f62a
X-WR-TIMEZONE:America/Chicago
BEGIN:VTIMEZONE
TZID:America/Chicago
BEGIN:STANDARD
TZNAME:CST
DTSTART:20241103T020000
TZOFFSETFROM:-0500
TZOFFSETTO:-0600
RDATE:20251102T020000
RDATE:20261101T020000
END:STANDARD
BEGIN:DAYLIGHT
TZNAME:CDT
DTSTART:20250309T020000
TZOFFSETFROM:-0600
TZOFFSETTO:-0500
RDATE:20260308T020000
RDATE:20270314T020000
END:DAYLIGHT
END:VTIMEZONE
BEGIN:VEVENT
UID:f65df077-1a6b-42cd-a269-ce0be5128f6a
DTSTAMP:20260422T220107Z
DESCRIPTION:Join us for a meaningful one-mile walk where heart families\, s
 upporters\, and survivors unite for change. This family-friendly event bri
 ngs our community together\, honoring Heart Warriors we've lost and celebr
 ating those still fighting. We walk side by side - heart families\, bereav
 ed families\, and supporters - showing that no one faces CHDs alone.
DTSTART;TZID=America/Chicago:20251005T050000
DTEND;TZID=America/Chicago:20251005T050001
LOCATION:Buffalo Bayou\, Houston\, TX
SUMMARY:Houston Congenital Heart Walk
END:VEVENT
END:VCALENDAR
