BEGIN:VCALENDAR
VERSION:2.0
PRODID:-//www.childrensheartfoundation.org//NONSGML kigkonsult.se iCalcreat
 or 2.30.10//
CALSCALE:GREGORIAN
METHOD:PUBLISH
UID:7fa9e5b7-cf20-4a6b-8c1d-28df10faebdc
X-WR-CALDESC:Join us for a meaningful one-mile walk where heart families\, 
 supporters\, and survivors unite for change. This family-friendly event br
 ings our community together\, honoring Heart Warriors we've lost and celeb
 rating those still fighting. We walk side by side - heart families\, berea
 ved families\, and supporters - showing that no one faces CHDs alone.
X-WR-RELCALID:d41ed210f9e1e6c92494bcb4c4eb0eaf
X-WR-TIMEZONE:America/Chicago
BEGIN:VTIMEZONE
TZID:America/Chicago
BEGIN:STANDARD
TZNAME:CST
DTSTART:20241103T020000
TZOFFSETFROM:-0500
TZOFFSETTO:-0600
RDATE:20251102T020000
RDATE:20261101T020000
END:STANDARD
BEGIN:DAYLIGHT
TZNAME:CDT
DTSTART:20250309T020000
TZOFFSETFROM:-0600
TZOFFSETTO:-0500
RDATE:20260308T020000
RDATE:20270314T020000
END:DAYLIGHT
END:VTIMEZONE
BEGIN:VEVENT
UID:6796310e-0514-4674-825f-a87345257ba6
DTSTAMP:20260422T220106Z
DESCRIPTION:Join us for a meaningful one-mile walk where heart families\, s
 upporters\, and survivors unite for change. This family-friendly event bri
 ngs our community together\, honoring Heart Warriors we've lost and celebr
 ating those still fighting. We walk side by side - heart families\, bereav
 ed families\, and supporters - showing that no one faces CHDs alone.
DTSTART;TZID=America/Chicago:20251004T050000
DTEND;TZID=America/Chicago:20251004T050001
LOCATION:Tualatin Community Park\, Tualatin\, OR
SUMMARY:Oregon/SW Washington Congenital Heart Walk
END:VEVENT
END:VCALENDAR
